BEGIN:VCALENDAR
VERSION:2.0
PRODID:-//Hotel Bellwether - ECPv6.15.17.1//NONSGML v1.0//EN
CALSCALE:GREGORIAN
METHOD:PUBLISH
X-ORIGINAL-URL:https://hotelbellwether.com
X-WR-CALDESC:Events for Hotel Bellwether
REFRESH-INTERVAL;VALUE=DURATION:PT1H
X-Robots-Tag:noindex
X-PUBLISHED-TTL:PT1H
BEGIN:VTIMEZONE
TZID:America/Los_Angeles
BEGIN:DAYLIGHT
TZOFFSETFROM:-0800
TZOFFSETTO:-0700
TZNAME:PDT
DTSTART:20240310T100000
END:DAYLIGHT
BEGIN:STANDARD
TZOFFSETFROM:-0700
TZOFFSETTO:-0800
TZNAME:PST
DTSTART:20241103T090000
END:STANDARD
BEGIN:DAYLIGHT
TZOFFSETFROM:-0800
TZOFFSETTO:-0700
TZNAME:PDT
DTSTART:20250309T100000
END:DAYLIGHT
BEGIN:STANDARD
TZOFFSETFROM:-0700
TZOFFSETTO:-0800
TZNAME:PST
DTSTART:20251102T090000
END:STANDARD
BEGIN:DAYLIGHT
TZOFFSETFROM:-0800
TZOFFSETTO:-0700
TZNAME:PDT
DTSTART:20260308T100000
END:DAYLIGHT
BEGIN:STANDARD
TZOFFSETFROM:-0700
TZOFFSETTO:-0800
TZNAME:PST
DTSTART:20261101T090000
END:STANDARD
END:VTIMEZONE
BEGIN:VEVENT
DTSTART;TZID=America/Los_Angeles:20250917T150000
DTEND;TZID=America/Los_Angeles:20250917T210000
DTSTAMP:20260422T104909
CREATED:20250708T213424Z
LAST-MODIFIED:20250708T213424Z
UID:10001885-1758121200-1758142800@hotelbellwether.com
SUMMARY:Winesday
DESCRIPTION:Join us in the Lighthouse Pub on Wednesdays for Winesday from 3- CLOSE! \n\nEnjoy Happy Hour with Food & Drink Specials!\nPremium Bottle Specials & Tastings Offered Every Wednesday All Day Long!\n\nView Pub & Happy Hour Menu \n 
URL:https://hotelbellwether.com/event/winesday-2-3/2025-09-17/
LOCATION:Hotel Bellwether\, 1 Bellwether Way\, Bellingham\, WA\, 98225\, United States
ATTACH;FMTTYPE=image/png:https://hotelbellwether.com/wp-content/uploads/2025/07/16.webp
END:VEVENT
BEGIN:VEVENT
DTSTART;TZID=America/Los_Angeles:20250917T170000
DTEND;TZID=America/Los_Angeles:20250917T190000
DTSTAMP:20260422T104909
CREATED:20250916T182135Z
LAST-MODIFIED:20250916T182135Z
UID:10002184-1758128400-1758135600@hotelbellwether.com
SUMMARY:Winesday featuring Ambassador Winery
DESCRIPTION:Immerse yourself in a thoughtfully curated tasting featuring Ambassador winery’s finest wines. Enjoy a guided experience from one of their representatives that showcases exceptional craftsmanship and dynamic pairings. \n$20: Tasting of premium wine selection \n+$10: fruit & cheese plater \n($50 value) \nFeatured Wines: \n\n2023 Sauv Blanc\n2015 Diplomat Red Blend\n2019 Malbec\n2019 Cab Sauv Plenipoteniary\n2021 Sirah Plenipoteniary\n\nRSVP Here!
URL:https://hotelbellwether.com/event/winesday-featuring-ambassador-winery-2/
LOCATION:Hotel Bellwether\, 1 Bellwether Way\, Bellingham\, WA\, 98225\, United States
ATTACH;FMTTYPE=image/png:https://hotelbellwether.com/wp-content/uploads/2025/09/Social-Posts-2160-x-1080-px-300-x-300-px-5.webp
ORGANIZER;CN="Hotel Bellwether":MAILTO:reservations@hotelbellwether.com
END:VEVENT
END:VCALENDAR