BEGIN:VCALENDAR
VERSION:2.0
PRODID:-//Hotel Bellwether - ECPv6.15.17.1//NONSGML v1.0//EN
CALSCALE:GREGORIAN
METHOD:PUBLISH
X-WR-CALNAME:Hotel Bellwether
X-ORIGINAL-URL:https://hotelbellwether.com
X-WR-CALDESC:Events for Hotel Bellwether
REFRESH-INTERVAL;VALUE=DURATION:PT1H
X-Robots-Tag:noindex
X-PUBLISHED-TTL:PT1H
BEGIN:VTIMEZONE
TZID:America/Los_Angeles
BEGIN:DAYLIGHT
TZOFFSETFROM:-0800
TZOFFSETTO:-0700
TZNAME:PDT
DTSTART:20240310T100000
END:DAYLIGHT
BEGIN:STANDARD
TZOFFSETFROM:-0700
TZOFFSETTO:-0800
TZNAME:PST
DTSTART:20241103T090000
END:STANDARD
BEGIN:DAYLIGHT
TZOFFSETFROM:-0800
TZOFFSETTO:-0700
TZNAME:PDT
DTSTART:20250309T100000
END:DAYLIGHT
BEGIN:STANDARD
TZOFFSETFROM:-0700
TZOFFSETTO:-0800
TZNAME:PST
DTSTART:20251102T090000
END:STANDARD
BEGIN:DAYLIGHT
TZOFFSETFROM:-0800
TZOFFSETTO:-0700
TZNAME:PDT
DTSTART:20260308T100000
END:DAYLIGHT
BEGIN:STANDARD
TZOFFSETFROM:-0700
TZOFFSETTO:-0800
TZNAME:PST
DTSTART:20261101T090000
END:STANDARD
END:VTIMEZONE
BEGIN:VEVENT
DTSTART;TZID=America/Los_Angeles:20250919T160000
DTEND;TZID=America/Los_Angeles:20250919T210000
DTSTAMP:20260422T104747
CREATED:20250708T213247Z
LAST-MODIFIED:20250708T213247Z
UID:10000610-1758297600-1758315600@hotelbellwether.com
SUMMARY:Prime Rib Nights at the Lighthouse Grill & Pub
DESCRIPTION:Join us for our Prime Rib Nights at the waterfront Lighthouse Grill & Pub\, every Thursday\, Friday & Saturday from 4-9 pm! \n  \nDouble R Ranch Prime Grade Beef \n12 oz- $64 \n16 oz- $71 \n  \nAdd 5 oz Lobster Tail $27 \nAdd 3 Jumbo Garlic Prawns $18 \n  \nIncludes Horseradish Cream\, A Jus\, Your Choice of Fingerling Potatoes\, Green Salad\, Seasonal Veggies\, or Mille Feuille Potatoes
URL:https://hotelbellwether.com/event/prime-rib-nights-at-the-lighthouse-grill-pub-2-2/2025-09-19/
LOCATION:Hotel Bellwether\, 1 Bellwether Way\, Bellingham\, WA\, 98225\, United States
ATTACH;FMTTYPE=image/png:https://hotelbellwether.com/wp-content/uploads/2025/07/11.webp
ORGANIZER;CN="Hotel Bellwether":MAILTO:reservations@hotelbellwether.com
END:VEVENT
BEGIN:VEVENT
DTSTART;TZID=America/Los_Angeles:20250919T183000
DTEND;TZID=America/Los_Angeles:20250919T200000
DTSTAMP:20260422T104747
CREATED:20250918T192749Z
LAST-MODIFIED:20250918T192749Z
UID:10002191-1758306600-1758312000@hotelbellwether.com
SUMMARY:David Feingold at the Lighthouse Pub
DESCRIPTION:Join us at the Lighthouse Pub for an evening of music with David Feingold! \nKnown for his masterful blend of classical\, jazz\, and flamenco styles\, David’s internationally performed works\, like the acclaimed The Boardwalk\, showcase his expressive\, one-of-a-kind sound. Don’t miss this chance to hear him live. \n\nDate & Time: September 19th | 6 pm – 8:30 pm \nVenue: Lighthouse Pub\, 1 Bellwether Way\, Bellingham\, WA 98225\nAdmission: Free!\nFood & Drinks: Enjoy our full dinner menu\, handcrafted cocktails\, specialty wines\, and local brews throughout the night\n\nWhy Come? \n\nHear David’s original songs and covers in an intimate setting\nSavor chef’s specials and local drinks\nRelax with friends in the cozy Lighthouse Pub environment\n\nDon’t miss out—reserve your table now for a night of live music\, great food\, and community!
URL:https://hotelbellwether.com/event/david-feingold-at-the-lighthouse-pub-2/
LOCATION:Hotel Bellwether\, 1 Bellwether Way\, Bellingham\, WA\, 98225\, United States
ATTACH;FMTTYPE=image/png:https://hotelbellwether.com/wp-content/uploads/2025/07/14.webp
ORGANIZER;CN="Hotel Bellwether":MAILTO:reservations@hotelbellwether.com
END:VEVENT
END:VCALENDAR