BEGIN:VCALENDAR
VERSION:2.0
PRODID:-//Hotel Bellwether - ECPv6.15.17.1//NONSGML v1.0//EN
CALSCALE:GREGORIAN
METHOD:PUBLISH
X-ORIGINAL-URL:https://hotelbellwether.com
X-WR-CALDESC:Events for Hotel Bellwether
REFRESH-INTERVAL;VALUE=DURATION:PT1H
X-Robots-Tag:noindex
X-PUBLISHED-TTL:PT1H
BEGIN:VTIMEZONE
TZID:America/Los_Angeles
BEGIN:DAYLIGHT
TZOFFSETFROM:-0800
TZOFFSETTO:-0700
TZNAME:PDT
DTSTART:20240310T100000
END:DAYLIGHT
BEGIN:STANDARD
TZOFFSETFROM:-0700
TZOFFSETTO:-0800
TZNAME:PST
DTSTART:20241103T090000
END:STANDARD
BEGIN:DAYLIGHT
TZOFFSETFROM:-0800
TZOFFSETTO:-0700
TZNAME:PDT
DTSTART:20250309T100000
END:DAYLIGHT
BEGIN:STANDARD
TZOFFSETFROM:-0700
TZOFFSETTO:-0800
TZNAME:PST
DTSTART:20251102T090000
END:STANDARD
BEGIN:DAYLIGHT
TZOFFSETFROM:-0800
TZOFFSETTO:-0700
TZNAME:PDT
DTSTART:20260308T100000
END:DAYLIGHT
BEGIN:STANDARD
TZOFFSETFROM:-0700
TZOFFSETTO:-0800
TZNAME:PST
DTSTART:20261101T090000
END:STANDARD
END:VTIMEZONE
BEGIN:VEVENT
DTSTART;TZID=America/Los_Angeles:20250920T100000
DTEND;TZID=America/Los_Angeles:20250920T140000
DTSTAMP:20260422T104957
CREATED:20250625T211104Z
LAST-MODIFIED:20250626T175650Z
UID:10001363-1758362400-1758376800@hotelbellwether.com
SUMMARY:Bellingham Farmers Market at the Depot Market Square
DESCRIPTION:Guests can enjoy the vibrant atmosphere of our local Farmers Market\, held every Saturday from April through December. This outdoor market features a wide variety of fresh\, locally grown produce\, handcrafted goods\, and delicious food items. It’s a great way to experience the local culture and support small businesses during your stay.
URL:https://hotelbellwether.com/event/bellingham-farmers-market-2/2025-09-20/
LOCATION:Depot Market Square\, 1100 Railroad Ave\, Bellingham\, WA\, 98225\, United States
ATTACH;FMTTYPE=image/png:https://hotelbellwether.com/wp-content/uploads/2025/06/Social-Posts-4.webp
END:VEVENT
BEGIN:VEVENT
DTSTART;TZID=America/Los_Angeles:20250920T160000
DTEND;TZID=America/Los_Angeles:20250920T210000
DTSTAMP:20260422T104957
CREATED:20250708T213247Z
LAST-MODIFIED:20250708T213247Z
UID:10000611-1758384000-1758402000@hotelbellwether.com
SUMMARY:Prime Rib Nights at the Lighthouse Grill & Pub
DESCRIPTION:Join us for our Prime Rib Nights at the waterfront Lighthouse Grill & Pub\, every Thursday\, Friday & Saturday from 4-9 pm! \n  \nDouble R Ranch Prime Grade Beef \n12 oz- $64 \n16 oz- $71 \n  \nAdd 5 oz Lobster Tail $27 \nAdd 3 Jumbo Garlic Prawns $18 \n  \nIncludes Horseradish Cream\, A Jus\, Your Choice of Fingerling Potatoes\, Green Salad\, Seasonal Veggies\, or Mille Feuille Potatoes
URL:https://hotelbellwether.com/event/prime-rib-nights-at-the-lighthouse-grill-pub-2-2/2025-09-20/
LOCATION:Hotel Bellwether\, 1 Bellwether Way\, Bellingham\, WA\, 98225\, United States
ATTACH;FMTTYPE=image/png:https://hotelbellwether.com/wp-content/uploads/2025/07/11.webp
ORGANIZER;CN="Hotel Bellwether":MAILTO:reservations@hotelbellwether.com
END:VEVENT
BEGIN:VEVENT
DTSTART;TZID=America/Los_Angeles:20250920T180000
DTEND;TZID=America/Los_Angeles:20250920T203000
DTSTAMP:20260422T104957
CREATED:20250918T193924Z
LAST-MODIFIED:20250918T193924Z
UID:10002193-1758391200-1758400200@hotelbellwether.com
SUMMARY:Ben Meyer at the Lighthouse Pub
DESCRIPTION:Join us at the Lighthouse Pub for an evening of music with Ben Meyer! \nBen Meyer is a talented guitarist and the creative force behind Bellingham’s jazz group Smile Aisle. Known for his melodic touch and subtle technicality\, Ben blends intricate jazz with a relaxed\, approachable sound. Drawing inspiration from artists like Pat Metheny\, his playing creates the perfect atmosphere for an intimate\, engaging night of music. \n\nDate & Time: September 20th | 6 pm – 8:30 pm \nVenue: Lighthouse Pub\, 1 Bellwether Way\, Bellingham\, WA 98225\nAdmission: Free!\nFood & Drinks: Enjoy our full dinner menu\, handcrafted cocktails\, specialty wines\, and local brews throughout the night\n\nWhy Come? \n\nHear Ben’s original songs and covers in an intimate setting\nSavor chef’s specials and local drinks\nRelax with friends in the cozy Lighthouse Pub environment\n\nDon’t miss out—reserve your table now for a night of live music\, great food\, and community! \nReserve Your Table \n 
URL:https://hotelbellwether.com/event/ben-meyer-at-the-lighthouse-pub-3/
LOCATION:Hotel Bellwether\, 1 Bellwether Way\, Bellingham\, WA\, 98225\, United States
ATTACH;FMTTYPE=image/png:https://hotelbellwether.com/wp-content/uploads/2025/07/13.webp
ORGANIZER;CN="Hotel Bellwether":MAILTO:reservations@hotelbellwether.com
END:VEVENT
END:VCALENDAR