BEGIN:VCALENDAR
VERSION:2.0
PRODID:-//Hotel Bellwether - ECPv6.15.17.1//NONSGML v1.0//EN
CALSCALE:GREGORIAN
METHOD:PUBLISH
X-ORIGINAL-URL:https://hotelbellwether.com
X-WR-CALDESC:Events for Hotel Bellwether
REFRESH-INTERVAL;VALUE=DURATION:PT1H
X-Robots-Tag:noindex
X-PUBLISHED-TTL:PT1H
BEGIN:VTIMEZONE
TZID:America/Los_Angeles
BEGIN:DAYLIGHT
TZOFFSETFROM:-0800
TZOFFSETTO:-0700
TZNAME:PDT
DTSTART:20240310T100000
END:DAYLIGHT
BEGIN:STANDARD
TZOFFSETFROM:-0700
TZOFFSETTO:-0800
TZNAME:PST
DTSTART:20241103T090000
END:STANDARD
BEGIN:DAYLIGHT
TZOFFSETFROM:-0800
TZOFFSETTO:-0700
TZNAME:PDT
DTSTART:20250309T100000
END:DAYLIGHT
BEGIN:STANDARD
TZOFFSETFROM:-0700
TZOFFSETTO:-0800
TZNAME:PST
DTSTART:20251102T090000
END:STANDARD
BEGIN:DAYLIGHT
TZOFFSETFROM:-0800
TZOFFSETTO:-0700
TZNAME:PDT
DTSTART:20260308T100000
END:DAYLIGHT
BEGIN:STANDARD
TZOFFSETFROM:-0700
TZOFFSETTO:-0800
TZNAME:PST
DTSTART:20261101T090000
END:STANDARD
END:VTIMEZONE
BEGIN:VEVENT
DTSTART;TZID=America/Los_Angeles:20251113T160000
DTEND;TZID=America/Los_Angeles:20251113T210000
DTSTAMP:20260423T142838
CREATED:20250708T213247Z
LAST-MODIFIED:20250708T213247Z
UID:10000633-1763049600-1763067600@hotelbellwether.com
SUMMARY:Prime Rib Nights at the Lighthouse Grill & Pub
DESCRIPTION:Join us for our Prime Rib Nights at the waterfront Lighthouse Grill & Pub\, every Thursday\, Friday & Saturday from 4-9 pm! \n  \nDouble R Ranch Prime Grade Beef \n12 oz- $64 \n16 oz- $71 \n  \nAdd 5 oz Lobster Tail $27 \nAdd 3 Jumbo Garlic Prawns $18 \n  \nIncludes Horseradish Cream\, A Jus\, Your Choice of Fingerling Potatoes\, Green Salad\, Seasonal Veggies\, or Mille Feuille Potatoes
URL:https://hotelbellwether.com/event/prime-rib-nights-at-the-lighthouse-grill-pub-2-2/2025-11-13/
LOCATION:Hotel Bellwether\, 1 Bellwether Way\, Bellingham\, WA\, 98225\, United States
ATTACH;FMTTYPE=image/png:https://hotelbellwether.com/wp-content/uploads/2025/07/11.webp
ORGANIZER;CN="Hotel Bellwether":MAILTO:reservations@hotelbellwether.com
END:VEVENT
BEGIN:VEVENT
DTSTART;TZID=America/Los_Angeles:20251113T193000
DTEND;TZID=America/Los_Angeles:20251113T213000
DTSTAMP:20260423T142838
CREATED:20251105T175659Z
LAST-MODIFIED:20251105T183606Z
UID:10002217-1763062200-1763069400@hotelbellwether.com
SUMMARY:The Resilient Project's 1st Annual Benefit Show Presents Allen Stone
DESCRIPTION:Thursday\, November 13\, 2025 – 7:30 PM at Mount Baker Theatre
URL:https://hotelbellwether.com/event/the-resilient-projects-1st-annual-benefit-show-presents-allen-stone/
LOCATION:Hotel Bellwether\, 1 Bellwether Way\, Bellingham\, WA\, 98225\, United States
ATTACH;FMTTYPE=image/webp:https://hotelbellwether.com/wp-content/uploads/2025/11/The-Resilient-Project-Event-Image.webp
ORGANIZER;CN="Hotel Bellwether":MAILTO:reservations@hotelbellwether.com
END:VEVENT
END:VCALENDAR