BEGIN:VCALENDAR
VERSION:2.0
PRODID:-//Hotel Bellwether - ECPv6.15.17.1//NONSGML v1.0//EN
CALSCALE:GREGORIAN
METHOD:PUBLISH
X-ORIGINAL-URL:https://hotelbellwether.com
X-WR-CALDESC:Events for Hotel Bellwether
REFRESH-INTERVAL;VALUE=DURATION:PT1H
X-Robots-Tag:noindex
X-PUBLISHED-TTL:PT1H
BEGIN:VTIMEZONE
TZID:America/Los_Angeles
BEGIN:DAYLIGHT
TZOFFSETFROM:-0800
TZOFFSETTO:-0700
TZNAME:PDT
DTSTART:20240310T100000
END:DAYLIGHT
BEGIN:STANDARD
TZOFFSETFROM:-0700
TZOFFSETTO:-0800
TZNAME:PST
DTSTART:20241103T090000
END:STANDARD
BEGIN:DAYLIGHT
TZOFFSETFROM:-0800
TZOFFSETTO:-0700
TZNAME:PDT
DTSTART:20250309T100000
END:DAYLIGHT
BEGIN:STANDARD
TZOFFSETFROM:-0700
TZOFFSETTO:-0800
TZNAME:PST
DTSTART:20251102T090000
END:STANDARD
BEGIN:DAYLIGHT
TZOFFSETFROM:-0800
TZOFFSETTO:-0700
TZNAME:PDT
DTSTART:20260308T100000
END:DAYLIGHT
BEGIN:STANDARD
TZOFFSETFROM:-0700
TZOFFSETTO:-0800
TZNAME:PST
DTSTART:20261101T090000
END:STANDARD
END:VTIMEZONE
BEGIN:VEVENT
DTSTART;TZID=America/Los_Angeles:20251115T100000
DTEND;TZID=America/Los_Angeles:20251115T140000
DTSTAMP:20260423T142851
CREATED:20250625T211104Z
LAST-MODIFIED:20250626T175650Z
UID:10001371-1763200800-1763215200@hotelbellwether.com
SUMMARY:Bellingham Farmers Market at the Depot Market Square
DESCRIPTION:Guests can enjoy the vibrant atmosphere of our local Farmers Market\, held every Saturday from April through December. This outdoor market features a wide variety of fresh\, locally grown produce\, handcrafted goods\, and delicious food items. It’s a great way to experience the local culture and support small businesses during your stay.
URL:https://hotelbellwether.com/event/bellingham-farmers-market-2/2025-11-15/
LOCATION:Depot Market Square\, 1100 Railroad Ave\, Bellingham\, WA\, 98225\, United States
ATTACH;FMTTYPE=image/png:https://hotelbellwether.com/wp-content/uploads/2025/06/Social-Posts-4.webp
END:VEVENT
BEGIN:VEVENT
DTSTART;TZID=America/Los_Angeles:20251115T160000
DTEND;TZID=America/Los_Angeles:20251115T210000
DTSTAMP:20260423T142851
CREATED:20250708T213247Z
LAST-MODIFIED:20250708T213247Z
UID:10000635-1763222400-1763240400@hotelbellwether.com
SUMMARY:Prime Rib Nights at the Lighthouse Grill & Pub
DESCRIPTION:Join us for our Prime Rib Nights at the waterfront Lighthouse Grill & Pub\, every Thursday\, Friday & Saturday from 4-9 pm! \n  \nDouble R Ranch Prime Grade Beef \n12 oz- $64 \n16 oz- $71 \n  \nAdd 5 oz Lobster Tail $27 \nAdd 3 Jumbo Garlic Prawns $18 \n  \nIncludes Horseradish Cream\, A Jus\, Your Choice of Fingerling Potatoes\, Green Salad\, Seasonal Veggies\, or Mille Feuille Potatoes
URL:https://hotelbellwether.com/event/prime-rib-nights-at-the-lighthouse-grill-pub-2-2/2025-11-15/
LOCATION:Hotel Bellwether\, 1 Bellwether Way\, Bellingham\, WA\, 98225\, United States
ATTACH;FMTTYPE=image/png:https://hotelbellwether.com/wp-content/uploads/2025/07/11.webp
ORGANIZER;CN="Hotel Bellwether":MAILTO:reservations@hotelbellwether.com
END:VEVENT
BEGIN:VEVENT
DTSTART;TZID=America/Los_Angeles:20251115T183000
DTEND;TZID=America/Los_Angeles:20251115T193000
DTSTAMP:20260423T142851
CREATED:20251008T192636Z
LAST-MODIFIED:20251008T192636Z
UID:10002206-1763231400-1763235000@hotelbellwether.com
SUMMARY:Candlelight Concert: The Best of Hans Zimmer
DESCRIPTION:  \n⭐ Candlelight concerts bring the magic of a live\, multi-sensory musical experience to awe-inspiring locations like never seen before in Bellingham. Get your tickets now to discover the music of Hans Zimmer at Hotel Bellwether under the gentle glow of candlelight. \nGeneral Info\n📍 Venue: Hotel Bellwether\n📅 Dates and times: select your dates/times directly in the ticket selector\n⏳ Duration: 60 minutes. Doors open 45 minutes before the show and close 5 minutes prior to the start. Late arrivals will not be permitted\n👤 Age requirement: 8 years old or older. Anyone under the age of 16 must be accompanied by an adult\n♿ Accessibility: this venue is ADA compliant\n❓ View the FAQs for this event here\n🪑 Seating is assigned on a first come first served basis in each zone\n🕯️ If you would like to book a private concert or buy regular tickets for a large group (+30 people)\, click here\n🎻 Check out all the Candlelight concerts in Bellingham\n🎁 To treat your friends and family to a Candlelight gift card\, click here \nTentative Program \n\nTime – Inception\nThis Land – The Lion King\nZooster’s Breakout – Madagascar\nSupermarine – Dunkirk\nHonor – The Pacific\nA Dark Knight – The Dark Knight\nWonder Woman Suite\nGladiator Suite\nCornfield Chase – Interstellar\nDune Suite\nDiscombobulate – Sherlock Holmes\nPirates of the Caribbean Suite\n\nPerformers \n\nListeso String Quartet\n\nSeating Map \nPurchase Tickets Here!
URL:https://hotelbellwether.com/event/candlelight-concert-the-best-of-hans-zimmer/
LOCATION:Hotel Bellwether\, 1 Bellwether Way\, Bellingham\, WA\, 98225\, United States
ATTACH;FMTTYPE=image/avif:https://hotelbellwether.com/wp-content/uploads/2025/02/Candlelight-vivaldi.avif
ORGANIZER;CN="Hotel Bellwether":MAILTO:reservations@hotelbellwether.com
END:VEVENT
BEGIN:VEVENT
DTSTART;TZID=America/Los_Angeles:20251115T203000
DTEND;TZID=America/Los_Angeles:20251115T213000
DTSTAMP:20260423T142851
CREATED:20251008T192843Z
LAST-MODIFIED:20251008T192843Z
UID:10002207-1763238600-1763242200@hotelbellwether.com
SUMMARY:Candlelight Concert: Coldplay & Imagine Dragons
DESCRIPTION:⭐ Candlelight concerts bring the magic of a live\, multi-sensory musical experience to awe-inspiring locations like never seen before in Bellingham. Get your tickets now to discover the music of Coldplay & Imagine Dragons at Hotel Bellwether under the gentle glow of candlelight. \nGeneral Info\n📍 Venue: Hotel Bellwether\n📅 Dates and times: select your dates/times directly in the ticket selector\n⏳ Duration: 60 minutes. Doors open 45 minutes before the show and close 5 minutes prior to the start. Late arrivals will not be permitted\n👤 Age requirement: 8 years old or older. Anyone under the age of 16 must be accompanied by an adult\n♿ Accessibility: this venue is ADA compliant\n❓ View the FAQs for this event here\n🪑 Seating is assigned on a first come first served basis in each zone\n🕯️ If you would like to book a private concert or buy regular tickets for a large group (+30 people)\, click here\n🎻 Check out all the Candlelight concerts in Bellingham\n🎁 To treat your friends and family to a Candlelight gift card\, click here \nTentative Program \n\nColdplay – Clocks\nColdplay – Something Just Like This\nImagine Dragons – Radioactive\nColdplay – Adventure of a Lifetime\nColdplay – Fix You\nImagine Dragons – Eyes Closed\nImagine Dragons – Nice to Meet You\nColdplay – The Scientist\nColdplay – feelslikeimfallinginlove\nImagine Dragons – Follow You\nImagine Dragons – Bad Liar\nColdplay – Viva la Vida\nImagine Dragons – Believer\nColdplay – Sky Full of Stars\n\nPerformers \n\nString Quartet – Listeso – Bellingham\n\nSeating Map \n\nPurchase Tickets Here!
URL:https://hotelbellwether.com/event/candlelight-concert-coldplay-imagine-dragons/
LOCATION:Hotel Bellwether\, 1 Bellwether Way\, Bellingham\, WA\, 98225\, United States
ATTACH;FMTTYPE=image/avif:https://hotelbellwether.com/wp-content/uploads/2025/02/Candlelight-vivaldi.avif
ORGANIZER;CN="Hotel Bellwether":MAILTO:reservations@hotelbellwether.com
END:VEVENT
END:VCALENDAR