BEGIN:VCALENDAR
VERSION:2.0
PRODID:-//Hotel Bellwether - ECPv6.15.17.1//NONSGML v1.0//EN
CALSCALE:GREGORIAN
METHOD:PUBLISH
X-WR-CALNAME:Hotel Bellwether
X-ORIGINAL-URL:https://hotelbellwether.com
X-WR-CALDESC:Events for Hotel Bellwether
REFRESH-INTERVAL;VALUE=DURATION:PT1H
X-Robots-Tag:noindex
X-PUBLISHED-TTL:PT1H
BEGIN:VTIMEZONE
TZID:America/Los_Angeles
BEGIN:DAYLIGHT
TZOFFSETFROM:-0800
TZOFFSETTO:-0700
TZNAME:PDT
DTSTART:20240310T100000
END:DAYLIGHT
BEGIN:STANDARD
TZOFFSETFROM:-0700
TZOFFSETTO:-0800
TZNAME:PST
DTSTART:20241103T090000
END:STANDARD
BEGIN:DAYLIGHT
TZOFFSETFROM:-0800
TZOFFSETTO:-0700
TZNAME:PDT
DTSTART:20250309T100000
END:DAYLIGHT
BEGIN:STANDARD
TZOFFSETFROM:-0700
TZOFFSETTO:-0800
TZNAME:PST
DTSTART:20251102T090000
END:STANDARD
BEGIN:DAYLIGHT
TZOFFSETFROM:-0800
TZOFFSETTO:-0700
TZNAME:PDT
DTSTART:20260308T100000
END:DAYLIGHT
BEGIN:STANDARD
TZOFFSETFROM:-0700
TZOFFSETTO:-0800
TZNAME:PST
DTSTART:20261101T090000
END:STANDARD
END:VTIMEZONE
BEGIN:VEVENT
DTSTART;TZID=America/Los_Angeles:20251127T120000
DTEND;TZID=America/Los_Angeles:20251127T190000
DTSTAMP:20260423T141552
CREATED:20251009T003501Z
LAST-MODIFIED:20251009T003602Z
UID:10002212-1764244800-1764270000@hotelbellwether.com
SUMMARY:Thanksgiving Buffet
DESCRIPTION:Join us for our bountiful Thanksgiving Day Buffet at the Lighthouse Grill prepared by our Executive Chef Omar and culinary team from Noon to 7 pm! \nEnjoy all the traditional favorites with carving stations of garlic roasted turkey with fresh sage gravy and sweetened cranberries\, prime rib and baked wild salmon. \nThere will also be a Seafood Display\, featuring fresh oysters\, local smoked fish and prawn cocktail. \nFestive sides include cornbread stuffing\, mashed potatoes\, brussel sprouts\, duchess sweet potato\, heirloom carrots\, green beans and artisan breads & spreads. \nFor dessert\, enjoy sweet treats and assorted pastries and baked goods. \nTableside service available for wine\, beer and specialty cocktails available from the Lighthouse Bar. (not included in buffet price) \n  \nBuffet prices  \n$95 per person* \n$55 for children ages 10 & under* \nKids 5 and under are free  \n(*9% tax and 20% auto gratuity not included in price and added to final bill) \n  \nCredit card information is required at time of reservation to reserve your seat. Your credit card will be charged at full price if reservations are not cancelled 72 hours prior to Thanksgiving Day. \nReserve Your Seat \n \n 
URL:https://hotelbellwether.com/event/thanksgiving-buffet/
LOCATION:Hotel Bellwether\, 1 Bellwether Way\, Bellingham\, WA\, 98225\, United States
ATTACH;FMTTYPE=image/png:https://hotelbellwether.com/wp-content/uploads/2021/11/Thanksgiving-Dinner.png
ORGANIZER;CN="Hotel Bellwether":MAILTO:reservations@hotelbellwether.com
END:VEVENT
BEGIN:VEVENT
DTSTART;TZID=America/Los_Angeles:20251127T160000
DTEND;TZID=America/Los_Angeles:20251127T210000
DTSTAMP:20260423T141552
CREATED:20250708T213247Z
LAST-MODIFIED:20250708T213247Z
UID:10000639-1764259200-1764277200@hotelbellwether.com
SUMMARY:Prime Rib Nights at the Lighthouse Grill & Pub
DESCRIPTION:Join us for our Prime Rib Nights at the waterfront Lighthouse Grill & Pub\, every Thursday\, Friday & Saturday from 4-9 pm! \n  \nDouble R Ranch Prime Grade Beef \n12 oz- $64 \n16 oz- $71 \n  \nAdd 5 oz Lobster Tail $27 \nAdd 3 Jumbo Garlic Prawns $18 \n  \nIncludes Horseradish Cream\, A Jus\, Your Choice of Fingerling Potatoes\, Green Salad\, Seasonal Veggies\, or Mille Feuille Potatoes
URL:https://hotelbellwether.com/event/prime-rib-nights-at-the-lighthouse-grill-pub-2-2/2025-11-27/
LOCATION:Hotel Bellwether\, 1 Bellwether Way\, Bellingham\, WA\, 98225\, United States
ATTACH;FMTTYPE=image/png:https://hotelbellwether.com/wp-content/uploads/2025/07/11.webp
ORGANIZER;CN="Hotel Bellwether":MAILTO:reservations@hotelbellwether.com
END:VEVENT
END:VCALENDAR