BEGIN:VCALENDAR
VERSION:2.0
PRODID:-//Hotel Bellwether - ECPv6.15.17.1//NONSGML v1.0//EN
CALSCALE:GREGORIAN
METHOD:PUBLISH
X-ORIGINAL-URL:https://hotelbellwether.com
X-WR-CALDESC:Events for Hotel Bellwether
REFRESH-INTERVAL;VALUE=DURATION:PT1H
X-Robots-Tag:noindex
X-PUBLISHED-TTL:PT1H
BEGIN:VTIMEZONE
TZID:America/Los_Angeles
BEGIN:DAYLIGHT
TZOFFSETFROM:-0800
TZOFFSETTO:-0700
TZNAME:PDT
DTSTART:20240310T100000
END:DAYLIGHT
BEGIN:STANDARD
TZOFFSETFROM:-0700
TZOFFSETTO:-0800
TZNAME:PST
DTSTART:20241103T090000
END:STANDARD
BEGIN:DAYLIGHT
TZOFFSETFROM:-0800
TZOFFSETTO:-0700
TZNAME:PDT
DTSTART:20250309T100000
END:DAYLIGHT
BEGIN:STANDARD
TZOFFSETFROM:-0700
TZOFFSETTO:-0800
TZNAME:PST
DTSTART:20251102T090000
END:STANDARD
BEGIN:DAYLIGHT
TZOFFSETFROM:-0800
TZOFFSETTO:-0700
TZNAME:PDT
DTSTART:20260308T100000
END:DAYLIGHT
BEGIN:STANDARD
TZOFFSETFROM:-0700
TZOFFSETTO:-0800
TZNAME:PST
DTSTART:20261101T090000
END:STANDARD
END:VTIMEZONE
BEGIN:VEVENT
DTSTART;TZID=America/Los_Angeles:20250719T100000
DTEND;TZID=America/Los_Angeles:20250719T140000
DTSTAMP:20260422T091520
CREATED:20250708T213043Z
LAST-MODIFIED:20250708T213044Z
UID:10002146-1752919200-1752933600@hotelbellwether.com
SUMMARY:Bellingham Dockside Market within walking distance from the Hotel Bellwether
DESCRIPTION:Bellingham Dockside Market serves as the hub for local fishermen in and out of Squalicum Harbor to sell their catch and harvest directly to you! Follow signs into Squalicum Harbor to buy seafood directly from the hardworking fishermen who catch it. Visit the dock early to ensure the best selection of seafood options\, and head home with dinner–from the dock to your table! \n 
URL:https://hotelbellwether.com/event/bellingham-dockside-market-2/
LOCATION:Bellingham Dockside Market\, 2599 S. Harbor Loop Drive\, Bellingham\, WA\, 98225\, United States
ATTACH;FMTTYPE=image/png:https://hotelbellwether.com/wp-content/uploads/2025/07/3.webp
END:VEVENT
BEGIN:VEVENT
DTSTART;TZID=America/Los_Angeles:20250705T100000
DTEND;TZID=America/Los_Angeles:20250705T140000
DTSTAMP:20260422T091520
CREATED:20250625T212802Z
LAST-MODIFIED:20250626T180744Z
UID:10002145-1751709600-1751724000@hotelbellwether.com
SUMMARY:Bellingham Dockside Market within walking distance from the Hotel Bellwether
DESCRIPTION:Bellingham Dockside Market serves as the hub for local fishermen in and out of Squalicum Harbor to sell their catch and harvest directly to you! Follow signs into Squalicum Harbor to buy seafood directly from the hardworking fishermen who catch it. Visit the dock early to ensure the best selection of seafood options\, and head home with dinner–from the dock to your table! \n 
URL:https://hotelbellwether.com/event/bellingham-dockside-market/
LOCATION:Bellingham Dockside Market\, 2599 S. Harbor Loop Drive\, Bellingham\, WA\, 98225\, United States
ATTACH;FMTTYPE=image/png:https://hotelbellwether.com/wp-content/uploads/2025/06/Social-Posts-5.webp
END:VEVENT
END:VCALENDAR